BEGIN:VCALENDAR
VERSION:2.0
PRODID:-//St Brigid&#039;s Parish Blanchardstown - ECPv6.15.17.1//NONSGML v1.0//EN
CALSCALE:GREGORIAN
METHOD:PUBLISH
X-WR-CALNAME:St Brigid&#039;s Parish Blanchardstown
X-ORIGINAL-URL:https://www.blanchardstownparish.ie
X-WR-CALDESC:Events for St Brigid&#039;s Parish Blanchardstown
REFRESH-INTERVAL;VALUE=DURATION:PT1H
X-Robots-Tag:noindex
X-PUBLISHED-TTL:PT1H
BEGIN:VTIMEZONE
TZID:Europe/Dublin
BEGIN:STANDARD
TZOFFSETFROM:+0000
TZOFFSETTO:+0100
TZNAME:IST
DTSTART:20250330T010000
END:STANDARD
BEGIN:DAYLIGHT
TZOFFSETFROM:+0100
TZOFFSETTO:+0000
TZNAME:GMT
DTSTART:20251026T010000
END:DAYLIGHT
BEGIN:STANDARD
TZOFFSETFROM:+0000
TZOFFSETTO:+0100
TZNAME:IST
DTSTART:20260329T010000
END:STANDARD
BEGIN:DAYLIGHT
TZOFFSETFROM:+0100
TZOFFSETTO:+0000
TZNAME:GMT
DTSTART:20261025T010000
END:DAYLIGHT
BEGIN:STANDARD
TZOFFSETFROM:+0000
TZOFFSETTO:+0100
TZNAME:IST
DTSTART:20270328T010000
END:STANDARD
BEGIN:DAYLIGHT
TZOFFSETFROM:+0100
TZOFFSETTO:+0000
TZNAME:GMT
DTSTART:20271031T010000
END:DAYLIGHT
BEGIN:STANDARD
TZOFFSETFROM:+0000
TZOFFSETTO:+0100
TZNAME:IST
DTSTART:20280326T010000
END:STANDARD
BEGIN:DAYLIGHT
TZOFFSETFROM:+0100
TZOFFSETTO:+0000
TZNAME:GMT
DTSTART:20281029T010000
END:DAYLIGHT
BEGIN:STANDARD
TZOFFSETFROM:+0000
TZOFFSETTO:+0100
TZNAME:IST
DTSTART:20290325T010000
END:STANDARD
BEGIN:DAYLIGHT
TZOFFSETFROM:+0100
TZOFFSETTO:+0000
TZNAME:GMT
DTSTART:20291028T010000
END:DAYLIGHT
END:VTIMEZONE
BEGIN:VEVENT
DTSTART;TZID=Europe/Dublin:20260505T103000
DTEND;TZID=Europe/Dublin:20260505T110000
DTSTAMP:20260425T130905
CREATED:20260328T213412Z
LAST-MODIFIED:20260328T213412Z
UID:10000195-1777977000-1777978800@www.blanchardstownparish.ie
SUMMARY:Prayer & Reflection
DESCRIPTION:Our Faith Development Worker Catherine invites us tall join in prayer and reflection on the First Week of Each Month in our Pastoral Centre commencing on Monday January 5th at 7.00 pm
URL:https://www.blanchardstownparish.ie/event/prayer-reflection-3/2026-05-05/
END:VEVENT
BEGIN:VEVENT
DTSTART;TZID=Europe/Dublin:20260524T120000
DTEND;TZID=Europe/Dublin:20260524T180000
DTSTAMP:20260425T130905
CREATED:20260424T170747Z
LAST-MODIFIED:20260424T171106Z
UID:10000259-1779624000-1779645600@www.blanchardstownparish.ie
SUMMARY:St. Brigid's Family Day
DESCRIPTION:Blanchardstown Festival of Brass and St Brigid’s Parish Family Day\, Sunday 24th May—celebrating 200 years of Blanchard- stown Brass Band. Top Brass &\nConcert Bands with up to 400 musicians performing together in a finale! \nThis FREE family event will take place in the grounds of Scoil Bhríde after our Family Mass\, from noon to 6pm in conjunction with our own Parish Family day.
URL:https://www.blanchardstownparish.ie/event/st-brigids-family-day/
END:VEVENT
BEGIN:VEVENT
DTSTART;TZID=Europe/Dublin:20260602T103000
DTEND;TZID=Europe/Dublin:20260602T110000
DTSTAMP:20260425T130905
CREATED:20260328T213412Z
LAST-MODIFIED:20260328T213412Z
UID:10000196-1780396200-1780398000@www.blanchardstownparish.ie
SUMMARY:Prayer & Reflection
DESCRIPTION:Our Faith Development Worker Catherine invites us tall join in prayer and reflection on the First Week of Each Month in our Pastoral Centre commencing on Monday January 5th at 7.00 pm
URL:https://www.blanchardstownparish.ie/event/prayer-reflection-3/2026-06-02/
END:VEVENT
BEGIN:VEVENT
DTSTART;TZID=Europe/Dublin:20260620T090000
DTEND;TZID=Europe/Dublin:20260620T210000
DTSTAMP:20260425T130905
CREATED:20260424T171216Z
LAST-MODIFIED:20260424T171336Z
UID:10000260-1781946000-1781989200@www.blanchardstownparish.ie
SUMMARY:Parish Annual Heritage Pilgrimage
DESCRIPTION:This year we are travelling to Mount St Anne’s Retreat Centre and Holy Cross Abbey\, Thurles on Saturday 20th June \nTickets will be on sale soon.
URL:https://www.blanchardstownparish.ie/event/parish-annual-heritage-pilgrimage/
END:VEVENT
BEGIN:VEVENT
DTSTART;TZID=Europe/Dublin:20260707T103000
DTEND;TZID=Europe/Dublin:20260707T110000
DTSTAMP:20260425T130905
CREATED:20260328T213412Z
LAST-MODIFIED:20260328T213412Z
UID:10000197-1783420200-1783422000@www.blanchardstownparish.ie
SUMMARY:Prayer & Reflection
DESCRIPTION:Our Faith Development Worker Catherine invites us tall join in prayer and reflection on the First Week of Each Month in our Pastoral Centre commencing on Monday January 5th at 7.00 pm
URL:https://www.blanchardstownparish.ie/event/prayer-reflection-3/2026-07-07/
END:VEVENT
BEGIN:VEVENT
DTSTART;TZID=Europe/Dublin:20260804T103000
DTEND;TZID=Europe/Dublin:20260804T110000
DTSTAMP:20260425T130905
CREATED:20260328T213412Z
LAST-MODIFIED:20260328T213412Z
UID:10000198-1785839400-1785841200@www.blanchardstownparish.ie
SUMMARY:Prayer & Reflection
DESCRIPTION:Our Faith Development Worker Catherine invites us tall join in prayer and reflection on the First Week of Each Month in our Pastoral Centre commencing on Monday January 5th at 7.00 pm
URL:https://www.blanchardstownparish.ie/event/prayer-reflection-3/2026-08-04/
END:VEVENT
BEGIN:VEVENT
DTSTART;TZID=Europe/Dublin:20260901T103000
DTEND;TZID=Europe/Dublin:20260901T110000
DTSTAMP:20260425T130905
CREATED:20260328T213412Z
LAST-MODIFIED:20260328T213412Z
UID:10000199-1788258600-1788260400@www.blanchardstownparish.ie
SUMMARY:Prayer & Reflection
DESCRIPTION:Our Faith Development Worker Catherine invites us tall join in prayer and reflection on the First Week of Each Month in our Pastoral Centre commencing on Monday January 5th at 7.00 pm
URL:https://www.blanchardstownparish.ie/event/prayer-reflection-3/2026-09-01/
END:VEVENT
BEGIN:VEVENT
DTSTART;TZID=Europe/Dublin:20261006T103000
DTEND;TZID=Europe/Dublin:20261006T110000
DTSTAMP:20260425T130905
CREATED:20260328T213412Z
LAST-MODIFIED:20260328T213412Z
UID:10000200-1791282600-1791284400@www.blanchardstownparish.ie
SUMMARY:Prayer & Reflection
DESCRIPTION:Our Faith Development Worker Catherine invites us tall join in prayer and reflection on the First Week of Each Month in our Pastoral Centre commencing on Monday January 5th at 7.00 pm
URL:https://www.blanchardstownparish.ie/event/prayer-reflection-3/2026-10-06/
END:VEVENT
BEGIN:VEVENT
DTSTART;TZID=Europe/Dublin:20261103T103000
DTEND;TZID=Europe/Dublin:20261103T110000
DTSTAMP:20260425T130905
CREATED:20260328T213412Z
LAST-MODIFIED:20260328T213412Z
UID:10000201-1793701800-1793703600@www.blanchardstownparish.ie
SUMMARY:Prayer & Reflection
DESCRIPTION:Our Faith Development Worker Catherine invites us tall join in prayer and reflection on the First Week of Each Month in our Pastoral Centre commencing on Monday January 5th at 7.00 pm
URL:https://www.blanchardstownparish.ie/event/prayer-reflection-3/2026-11-03/
END:VEVENT
BEGIN:VEVENT
DTSTART;TZID=Europe/Dublin:20261201T103000
DTEND;TZID=Europe/Dublin:20261201T110000
DTSTAMP:20260425T130905
CREATED:20260328T213412Z
LAST-MODIFIED:20260328T213412Z
UID:10000202-1796121000-1796122800@www.blanchardstownparish.ie
SUMMARY:Prayer & Reflection
DESCRIPTION:Our Faith Development Worker Catherine invites us tall join in prayer and reflection on the First Week of Each Month in our Pastoral Centre commencing on Monday January 5th at 7.00 pm
URL:https://www.blanchardstownparish.ie/event/prayer-reflection-3/2026-12-01/
END:VEVENT
BEGIN:VEVENT
DTSTART;TZID=Europe/Dublin:20270105T103000
DTEND;TZID=Europe/Dublin:20270105T110000
DTSTAMP:20260425T130905
CREATED:20260328T213412Z
LAST-MODIFIED:20260328T213412Z
UID:10000203-1799145000-1799146800@www.blanchardstownparish.ie
SUMMARY:Prayer & Reflection
DESCRIPTION:Our Faith Development Worker Catherine invites us tall join in prayer and reflection on the First Week of Each Month in our Pastoral Centre commencing on Monday January 5th at 7.00 pm
URL:https://www.blanchardstownparish.ie/event/prayer-reflection-3/2027-01-05/
END:VEVENT
BEGIN:VEVENT
DTSTART;TZID=Europe/Dublin:20270202T103000
DTEND;TZID=Europe/Dublin:20270202T110000
DTSTAMP:20260425T130905
CREATED:20260328T213412Z
LAST-MODIFIED:20260328T213412Z
UID:10000204-1801564200-1801566000@www.blanchardstownparish.ie
SUMMARY:Prayer & Reflection
DESCRIPTION:Our Faith Development Worker Catherine invites us tall join in prayer and reflection on the First Week of Each Month in our Pastoral Centre commencing on Monday January 5th at 7.00 pm
URL:https://www.blanchardstownparish.ie/event/prayer-reflection-3/2027-02-02/
END:VEVENT
BEGIN:VEVENT
DTSTART;TZID=Europe/Dublin:20270302T103000
DTEND;TZID=Europe/Dublin:20270302T110000
DTSTAMP:20260425T130905
CREATED:20260328T213412Z
LAST-MODIFIED:20260328T213412Z
UID:10000205-1803983400-1803985200@www.blanchardstownparish.ie
SUMMARY:Prayer & Reflection
DESCRIPTION:Our Faith Development Worker Catherine invites us tall join in prayer and reflection on the First Week of Each Month in our Pastoral Centre commencing on Monday January 5th at 7.00 pm
URL:https://www.blanchardstownparish.ie/event/prayer-reflection-3/2027-03-02/
END:VEVENT
BEGIN:VEVENT
DTSTART;TZID=Europe/Dublin:20270406T103000
DTEND;TZID=Europe/Dublin:20270406T110000
DTSTAMP:20260425T130905
CREATED:20260328T213412Z
LAST-MODIFIED:20260328T213412Z
UID:10000206-1807007400-1807009200@www.blanchardstownparish.ie
SUMMARY:Prayer & Reflection
DESCRIPTION:Our Faith Development Worker Catherine invites us tall join in prayer and reflection on the First Week of Each Month in our Pastoral Centre commencing on Monday January 5th at 7.00 pm
URL:https://www.blanchardstownparish.ie/event/prayer-reflection-3/2027-04-06/
END:VEVENT
BEGIN:VEVENT
DTSTART;TZID=Europe/Dublin:20270504T103000
DTEND;TZID=Europe/Dublin:20270504T110000
DTSTAMP:20260425T130905
CREATED:20260328T213412Z
LAST-MODIFIED:20260328T213412Z
UID:10000207-1809426600-1809428400@www.blanchardstownparish.ie
SUMMARY:Prayer & Reflection
DESCRIPTION:Our Faith Development Worker Catherine invites us tall join in prayer and reflection on the First Week of Each Month in our Pastoral Centre commencing on Monday January 5th at 7.00 pm
URL:https://www.blanchardstownparish.ie/event/prayer-reflection-3/2027-05-04/
END:VEVENT
BEGIN:VEVENT
DTSTART;TZID=Europe/Dublin:20270601T103000
DTEND;TZID=Europe/Dublin:20270601T110000
DTSTAMP:20260425T130905
CREATED:20260328T213412Z
LAST-MODIFIED:20260328T213412Z
UID:10000208-1811845800-1811847600@www.blanchardstownparish.ie
SUMMARY:Prayer & Reflection
DESCRIPTION:Our Faith Development Worker Catherine invites us tall join in prayer and reflection on the First Week of Each Month in our Pastoral Centre commencing on Monday January 5th at 7.00 pm
URL:https://www.blanchardstownparish.ie/event/prayer-reflection-3/2027-06-01/
END:VEVENT
BEGIN:VEVENT
DTSTART;TZID=Europe/Dublin:20270706T103000
DTEND;TZID=Europe/Dublin:20270706T110000
DTSTAMP:20260425T130905
CREATED:20260328T213412Z
LAST-MODIFIED:20260328T213412Z
UID:10000209-1814869800-1814871600@www.blanchardstownparish.ie
SUMMARY:Prayer & Reflection
DESCRIPTION:Our Faith Development Worker Catherine invites us tall join in prayer and reflection on the First Week of Each Month in our Pastoral Centre commencing on Monday January 5th at 7.00 pm
URL:https://www.blanchardstownparish.ie/event/prayer-reflection-3/2027-07-06/
END:VEVENT
BEGIN:VEVENT
DTSTART;TZID=Europe/Dublin:20270803T103000
DTEND;TZID=Europe/Dublin:20270803T110000
DTSTAMP:20260425T130905
CREATED:20260328T213412Z
LAST-MODIFIED:20260328T213412Z
UID:10000210-1817289000-1817290800@www.blanchardstownparish.ie
SUMMARY:Prayer & Reflection
DESCRIPTION:Our Faith Development Worker Catherine invites us tall join in prayer and reflection on the First Week of Each Month in our Pastoral Centre commencing on Monday January 5th at 7.00 pm
URL:https://www.blanchardstownparish.ie/event/prayer-reflection-3/2027-08-03/
END:VEVENT
BEGIN:VEVENT
DTSTART;TZID=Europe/Dublin:20270907T103000
DTEND;TZID=Europe/Dublin:20270907T110000
DTSTAMP:20260425T130905
CREATED:20260328T213412Z
LAST-MODIFIED:20260328T213412Z
UID:10000211-1820313000-1820314800@www.blanchardstownparish.ie
SUMMARY:Prayer & Reflection
DESCRIPTION:Our Faith Development Worker Catherine invites us tall join in prayer and reflection on the First Week of Each Month in our Pastoral Centre commencing on Monday January 5th at 7.00 pm
URL:https://www.blanchardstownparish.ie/event/prayer-reflection-3/2027-09-07/
END:VEVENT
BEGIN:VEVENT
DTSTART;TZID=Europe/Dublin:20271005T103000
DTEND;TZID=Europe/Dublin:20271005T110000
DTSTAMP:20260425T130905
CREATED:20260328T213412Z
LAST-MODIFIED:20260328T213412Z
UID:10000212-1822732200-1822734000@www.blanchardstownparish.ie
SUMMARY:Prayer & Reflection
DESCRIPTION:Our Faith Development Worker Catherine invites us tall join in prayer and reflection on the First Week of Each Month in our Pastoral Centre commencing on Monday January 5th at 7.00 pm
URL:https://www.blanchardstownparish.ie/event/prayer-reflection-3/2027-10-05/
END:VEVENT
BEGIN:VEVENT
DTSTART;TZID=Europe/Dublin:20271102T103000
DTEND;TZID=Europe/Dublin:20271102T110000
DTSTAMP:20260425T130905
CREATED:20260328T213412Z
LAST-MODIFIED:20260328T213412Z
UID:10000213-1825151400-1825153200@www.blanchardstownparish.ie
SUMMARY:Prayer & Reflection
DESCRIPTION:Our Faith Development Worker Catherine invites us tall join in prayer and reflection on the First Week of Each Month in our Pastoral Centre commencing on Monday January 5th at 7.00 pm
URL:https://www.blanchardstownparish.ie/event/prayer-reflection-3/2027-11-02/
END:VEVENT
BEGIN:VEVENT
DTSTART;TZID=Europe/Dublin:20271207T103000
DTEND;TZID=Europe/Dublin:20271207T110000
DTSTAMP:20260425T130905
CREATED:20260328T213412Z
LAST-MODIFIED:20260328T213412Z
UID:10000214-1828175400-1828177200@www.blanchardstownparish.ie
SUMMARY:Prayer & Reflection
DESCRIPTION:Our Faith Development Worker Catherine invites us tall join in prayer and reflection on the First Week of Each Month in our Pastoral Centre commencing on Monday January 5th at 7.00 pm
URL:https://www.blanchardstownparish.ie/event/prayer-reflection-3/2027-12-07/
END:VEVENT
BEGIN:VEVENT
DTSTART;TZID=Europe/Dublin:20280104T103000
DTEND;TZID=Europe/Dublin:20280104T110000
DTSTAMP:20260425T130905
CREATED:20260328T213412Z
LAST-MODIFIED:20260328T213412Z
UID:10000215-1830594600-1830596400@www.blanchardstownparish.ie
SUMMARY:Prayer & Reflection
DESCRIPTION:Our Faith Development Worker Catherine invites us tall join in prayer and reflection on the First Week of Each Month in our Pastoral Centre commencing on Monday January 5th at 7.00 pm
URL:https://www.blanchardstownparish.ie/event/prayer-reflection-3/2028-01-04/
END:VEVENT
BEGIN:VEVENT
DTSTART;TZID=Europe/Dublin:20280201T103000
DTEND;TZID=Europe/Dublin:20280201T110000
DTSTAMP:20260425T130905
CREATED:20260328T213412Z
LAST-MODIFIED:20260328T213412Z
UID:10000216-1833013800-1833015600@www.blanchardstownparish.ie
SUMMARY:Prayer & Reflection
DESCRIPTION:Our Faith Development Worker Catherine invites us tall join in prayer and reflection on the First Week of Each Month in our Pastoral Centre commencing on Monday January 5th at 7.00 pm
URL:https://www.blanchardstownparish.ie/event/prayer-reflection-3/2028-02-01/
END:VEVENT
BEGIN:VEVENT
DTSTART;TZID=Europe/Dublin:20280307T103000
DTEND;TZID=Europe/Dublin:20280307T110000
DTSTAMP:20260425T130905
CREATED:20260328T213412Z
LAST-MODIFIED:20260328T213412Z
UID:10000217-1836037800-1836039600@www.blanchardstownparish.ie
SUMMARY:Prayer & Reflection
DESCRIPTION:Our Faith Development Worker Catherine invites us tall join in prayer and reflection on the First Week of Each Month in our Pastoral Centre commencing on Monday January 5th at 7.00 pm
URL:https://www.blanchardstownparish.ie/event/prayer-reflection-3/2028-03-07/
END:VEVENT
BEGIN:VEVENT
DTSTART;TZID=Europe/Dublin:20280404T103000
DTEND;TZID=Europe/Dublin:20280404T110000
DTSTAMP:20260425T130905
CREATED:20260328T213412Z
LAST-MODIFIED:20260328T213412Z
UID:10000218-1838457000-1838458800@www.blanchardstownparish.ie
SUMMARY:Prayer & Reflection
DESCRIPTION:Our Faith Development Worker Catherine invites us tall join in prayer and reflection on the First Week of Each Month in our Pastoral Centre commencing on Monday January 5th at 7.00 pm
URL:https://www.blanchardstownparish.ie/event/prayer-reflection-3/2028-04-04/
END:VEVENT
BEGIN:VEVENT
DTSTART;TZID=Europe/Dublin:20280502T103000
DTEND;TZID=Europe/Dublin:20280502T110000
DTSTAMP:20260425T130905
CREATED:20260328T213412Z
LAST-MODIFIED:20260328T213412Z
UID:10000219-1840876200-1840878000@www.blanchardstownparish.ie
SUMMARY:Prayer & Reflection
DESCRIPTION:Our Faith Development Worker Catherine invites us tall join in prayer and reflection on the First Week of Each Month in our Pastoral Centre commencing on Monday January 5th at 7.00 pm
URL:https://www.blanchardstownparish.ie/event/prayer-reflection-3/2028-05-02/
END:VEVENT
BEGIN:VEVENT
DTSTART;TZID=Europe/Dublin:20280606T103000
DTEND;TZID=Europe/Dublin:20280606T110000
DTSTAMP:20260425T130905
CREATED:20260328T213412Z
LAST-MODIFIED:20260328T213412Z
UID:10000220-1843900200-1843902000@www.blanchardstownparish.ie
SUMMARY:Prayer & Reflection
DESCRIPTION:Our Faith Development Worker Catherine invites us tall join in prayer and reflection on the First Week of Each Month in our Pastoral Centre commencing on Monday January 5th at 7.00 pm
URL:https://www.blanchardstownparish.ie/event/prayer-reflection-3/2028-06-06/
END:VEVENT
BEGIN:VEVENT
DTSTART;TZID=Europe/Dublin:20280704T103000
DTEND;TZID=Europe/Dublin:20280704T110000
DTSTAMP:20260425T130905
CREATED:20260328T213412Z
LAST-MODIFIED:20260328T213412Z
UID:10000221-1846319400-1846321200@www.blanchardstownparish.ie
SUMMARY:Prayer & Reflection
DESCRIPTION:Our Faith Development Worker Catherine invites us tall join in prayer and reflection on the First Week of Each Month in our Pastoral Centre commencing on Monday January 5th at 7.00 pm
URL:https://www.blanchardstownparish.ie/event/prayer-reflection-3/2028-07-04/
END:VEVENT
BEGIN:VEVENT
DTSTART;TZID=Europe/Dublin:20280801T103000
DTEND;TZID=Europe/Dublin:20280801T110000
DTSTAMP:20260425T130905
CREATED:20260328T213412Z
LAST-MODIFIED:20260328T213412Z
UID:10000222-1848738600-1848740400@www.blanchardstownparish.ie
SUMMARY:Prayer & Reflection
DESCRIPTION:Our Faith Development Worker Catherine invites us tall join in prayer and reflection on the First Week of Each Month in our Pastoral Centre commencing on Monday January 5th at 7.00 pm
URL:https://www.blanchardstownparish.ie/event/prayer-reflection-3/2028-08-01/
END:VEVENT
END:VCALENDAR